BEGIN:VCALENDAR
VERSION:2.0
PRODID:icalendar-ruby
CALSCALE:GREGORIAN
METHOD:PUBLISH
BEGIN:VEVENT
DTSTAMP:20260424T132100Z
UID:5-567945@journeycb.ca
DTSTART:20261018T133000Z
DTEND:20261018T143000Z
CLASS:PUBLIC
CREATED:20260424T084943
DESCRIPTION:Sunday Worship
LAST-MODIFIED:20260424T084943
LOCATION:
SUMMARY:Sunday Worship
URL;VALUE=URI:https://www.journeycb.ca/events/sunday-worship/2026-10-18
END:VEVENT
END:VCALENDAR
